BEGIN:VCALENDAR
PRODID:-//www.supercalendario.com.br//PT_BR
VERSION:2.0
CALSCALE:GREGORIAN
BEGIN:VEVENT
DTSTAMP:20250219T215237Z
DTSTART;VALUE=DATE;VALUE=DATE:20200101
SUMMARY:Feriado - Ano Novo
UID:ee1a53a4-82e8-463f-9ffa-123dff704f23@supercalendario.com.br
END:VEVENT
BEGIN:VEVENT
DTSTAMP:20250219T215237Z
DTSTART;VALUE=DATE;VALUE=DATE:20200421
SUMMARY:Feriado - Tiradentes
UID:85d54c26-0804-4ecf-acb8-28b8b42324c1@supercalendario.com.br
END:VEVENT
BEGIN:VEVENT
DTSTAMP:20250219T215237Z
DTSTART;VALUE=DATE;VALUE=DATE:20200501
SUMMARY:Feriado - Dia do Trabado
UID:0b618da8-aaa5-4b38-b852-e150c12bda8d@supercalendario.com.br
END:VEVENT
BEGIN:VEVENT
DTSTAMP:20250219T215237Z
DTSTART;VALUE=DATE;VALUE=DATE:20200907
SUMMARY:Feriado - Independência do Brasil
UID:6933cfe3-1799-490d-863c-e858433d1f1f@supercalendario.com.br
END:VEVENT
BEGIN:VEVENT
DTSTAMP:20250219T215237Z
DTSTART;VALUE=DATE;VALUE=DATE:20201012
SUMMARY:Feriado - Nossa Senha Aparecida
UID:311419e2-9a6b-4952-97ed-4ba43d517834@supercalendario.com.br
END:VEVENT
BEGIN:VEVENT
DTSTAMP:20250219T215237Z
DTSTART;VALUE=DATE;VALUE=DATE:20201102
SUMMARY:Feriado - Finados
UID:cfee8a8f-5b66-4843-980a-a8471229be28@supercalendario.com.br
END:VEVENT
BEGIN:VEVENT
DTSTAMP:20250219T215237Z
DTSTART;VALUE=DATE;VALUE=DATE:20201225
SUMMARY:Feriado - Natal
UID:caca8894-348d-48d9-9872-a38e4b146a5d@supercalendario.com.br
END:VEVENT
BEGIN:VEVENT
DTSTAMP:20250219T215237Z
DTSTART;VALUE=DATE;VALUE=DATE:20200225
SUMMARY:Feriado - Carnaval
UID:cadd8a2a-313f-49c3-8ca0-0483664fe870@supercalendario.com.br
END:VEVENT
BEGIN:VEVENT
DTSTAMP:20250219T215237Z
DTSTART;VALUE=DATE;VALUE=DATE:20200611
SUMMARY:Feriado - Corpus Christi
UID:2d9b4038-2cb0-4178-8b5f-6b416a0a0894@supercalendario.com.br
END:VEVENT
BEGIN:VEVENT
DTSTAMP:20250219T215237Z
DTSTART;VALUE=DATE;VALUE=DATE:20200410
SUMMARY:Feriado - Paixão de Cristo
UID:ffa980af-8420-46a7-9883-80d82a4cdfd3@supercalendario.com.br
END:VEVENT
END:VCALENDAR
