BEGIN:VCALENDAR
PRODID:-//www.supercalendario.com.br//PT_BR
VERSION:2.0
CALSCALE:GREGORIAN
BEGIN:VEVENT
DTSTAMP:20250219T215213Z
DTSTART;VALUE=DATE;VALUE=DATE:20210101
SUMMARY:Feriado - Ano Novo
UID:bd6c38d9-ee8e-4bb3-a379-8541957de022@supercalendario.com.br
END:VEVENT
BEGIN:VEVENT
DTSTAMP:20250219T215213Z
DTSTART;VALUE=DATE;VALUE=DATE:20210421
SUMMARY:Feriado - Tiradentes
UID:2cdc85d6-3c1a-4b7f-82a2-1f22b6e12620@supercalendario.com.br
END:VEVENT
BEGIN:VEVENT
DTSTAMP:20250219T215213Z
DTSTART;VALUE=DATE;VALUE=DATE:20210501
SUMMARY:Feriado - Dia do Trabado
UID:9c0b45fa-d403-42c7-a39b-4fb885d13e1f@supercalendario.com.br
END:VEVENT
BEGIN:VEVENT
DTSTAMP:20250219T215213Z
DTSTART;VALUE=DATE;VALUE=DATE:20210907
SUMMARY:Feriado - Independência do Brasil
UID:d8fb7713-af02-485d-808e-c463279c9247@supercalendario.com.br
END:VEVENT
BEGIN:VEVENT
DTSTAMP:20250219T215213Z
DTSTART;VALUE=DATE;VALUE=DATE:20211012
SUMMARY:Feriado - Nossa Senha Aparecida
UID:76ba621c-6103-4610-aefa-deda3bea7cee@supercalendario.com.br
END:VEVENT
BEGIN:VEVENT
DTSTAMP:20250219T215213Z
DTSTART;VALUE=DATE;VALUE=DATE:20211102
SUMMARY:Feriado - Finados
UID:3f2f2130-6d13-4876-8c95-83c9db850001@supercalendario.com.br
END:VEVENT
BEGIN:VEVENT
DTSTAMP:20250219T215213Z
DTSTART;VALUE=DATE;VALUE=DATE:20211225
SUMMARY:Feriado - Natal
UID:107027e4-8162-4a38-b254-11a55a55adbd@supercalendario.com.br
END:VEVENT
BEGIN:VEVENT
DTSTAMP:20250219T215213Z
DTSTART;VALUE=DATE;VALUE=DATE:20210216
SUMMARY:Feriado - Carnaval
UID:eec37c8c-6619-447e-835d-e0b376472a97@supercalendario.com.br
END:VEVENT
BEGIN:VEVENT
DTSTAMP:20250219T215213Z
DTSTART;VALUE=DATE;VALUE=DATE:20210603
SUMMARY:Feriado - Corpus Christi
UID:47faf92e-9a2a-43fb-8109-edb389a5d2f7@supercalendario.com.br
END:VEVENT
BEGIN:VEVENT
DTSTAMP:20250219T215213Z
DTSTART;VALUE=DATE;VALUE=DATE:20210402
SUMMARY:Feriado - Paixão de Cristo
UID:f50c0c6d-8380-4fc5-9be1-eaf1ef8e1b32@supercalendario.com.br
END:VEVENT
END:VCALENDAR
