BEGIN:VCALENDAR
PRODID:-//www.supercalendario.com.br//PT_BR
VERSION:2.0
CALSCALE:GREGORIAN
BEGIN:VEVENT
DTSTAMP:20250219T215143Z
DTSTART;VALUE=DATE;VALUE=DATE:20220101
SUMMARY:Feriado - Ano Novo
UID:52aa98a1-9827-4ce0-9926-661bbfd240a2@supercalendario.com.br
END:VEVENT
BEGIN:VEVENT
DTSTAMP:20250219T215143Z
DTSTART;VALUE=DATE;VALUE=DATE:20220421
SUMMARY:Feriado - Tiradentes
UID:f5819677-7b72-46e4-b3b7-eefd3bb5b115@supercalendario.com.br
END:VEVENT
BEGIN:VEVENT
DTSTAMP:20250219T215143Z
DTSTART;VALUE=DATE;VALUE=DATE:20220501
SUMMARY:Feriado - Dia do Trabado
UID:be6b1ad9-07ac-4011-b9f7-81e9286f220c@supercalendario.com.br
END:VEVENT
BEGIN:VEVENT
DTSTAMP:20250219T215143Z
DTSTART;VALUE=DATE;VALUE=DATE:20220907
SUMMARY:Feriado - Independência do Brasil
UID:0615aea4-e197-473d-b7a7-815a56bff25f@supercalendario.com.br
END:VEVENT
BEGIN:VEVENT
DTSTAMP:20250219T215143Z
DTSTART;VALUE=DATE;VALUE=DATE:20221012
SUMMARY:Feriado - Nossa Senha Aparecida
UID:26ee405d-6691-47e4-8248-5712441a7db9@supercalendario.com.br
END:VEVENT
BEGIN:VEVENT
DTSTAMP:20250219T215143Z
DTSTART;VALUE=DATE;VALUE=DATE:20221102
SUMMARY:Feriado - Finados
UID:d7877d40-06de-40f5-a0a8-108c2a0d3c24@supercalendario.com.br
END:VEVENT
BEGIN:VEVENT
DTSTAMP:20250219T215143Z
DTSTART;VALUE=DATE;VALUE=DATE:20221225
SUMMARY:Feriado - Natal
UID:5b401b74-54e1-46c2-8ad2-f0ac3becdb50@supercalendario.com.br
END:VEVENT
BEGIN:VEVENT
DTSTAMP:20250219T215143Z
DTSTART;VALUE=DATE;VALUE=DATE:20220301
SUMMARY:Feriado - Carnaval
UID:b5b60566-b6a5-42f1-a0e8-ebf4c340c339@supercalendario.com.br
END:VEVENT
BEGIN:VEVENT
DTSTAMP:20250219T215143Z
DTSTART;VALUE=DATE;VALUE=DATE:20220616
SUMMARY:Feriado - Corpus Christi
UID:6d83267f-ddb2-4a5b-80c0-728a55beab8b@supercalendario.com.br
END:VEVENT
BEGIN:VEVENT
DTSTAMP:20250219T215143Z
DTSTART;VALUE=DATE;VALUE=DATE:20220415
SUMMARY:Feriado - Paixão de Cristo
UID:cf61d953-cddf-4fd2-a247-9b077622edef@supercalendario.com.br
END:VEVENT
END:VCALENDAR
