BEGIN:VCALENDAR
PRODID:-//www.supercalendario.com.br//PT_BR
VERSION:2.0
CALSCALE:GREGORIAN
BEGIN:VEVENT
DTSTAMP:20250219T215107Z
DTSTART;VALUE=DATE;VALUE=DATE:20230101
SUMMARY:Feriado - Ano Novo
UID:84d3847c-e1d1-4777-a0cf-7f396169ef5d@supercalendario.com.br
END:VEVENT
BEGIN:VEVENT
DTSTAMP:20250219T215107Z
DTSTART;VALUE=DATE;VALUE=DATE:20230421
SUMMARY:Feriado - Tiradentes
UID:67e0092b-f4de-4e15-83e3-e2acad60d980@supercalendario.com.br
END:VEVENT
BEGIN:VEVENT
DTSTAMP:20250219T215107Z
DTSTART;VALUE=DATE;VALUE=DATE:20230501
SUMMARY:Feriado - Dia do Trabado
UID:709f6c2b-2c48-48fe-b7e4-4230564bc97c@supercalendario.com.br
END:VEVENT
BEGIN:VEVENT
DTSTAMP:20250219T215107Z
DTSTART;VALUE=DATE;VALUE=DATE:20230907
SUMMARY:Feriado - Independência do Brasil
UID:90c19527-d280-4091-8b8b-2be40ce71d71@supercalendario.com.br
END:VEVENT
BEGIN:VEVENT
DTSTAMP:20250219T215107Z
DTSTART;VALUE=DATE;VALUE=DATE:20231012
SUMMARY:Feriado - Nossa Senha Aparecida
UID:19c1c355-ad65-4885-a5ea-dbee5d87ddcd@supercalendario.com.br
END:VEVENT
BEGIN:VEVENT
DTSTAMP:20250219T215107Z
DTSTART;VALUE=DATE;VALUE=DATE:20231102
SUMMARY:Feriado - Finados
UID:8f9b87a5-3506-4e35-a054-edebac2aab47@supercalendario.com.br
END:VEVENT
BEGIN:VEVENT
DTSTAMP:20250219T215107Z
DTSTART;VALUE=DATE;VALUE=DATE:20231225
SUMMARY:Feriado - Natal
UID:7cda441b-1f41-4cd9-9dc2-e76c51bca031@supercalendario.com.br
END:VEVENT
BEGIN:VEVENT
DTSTAMP:20250219T215107Z
DTSTART;VALUE=DATE;VALUE=DATE:20230221
SUMMARY:Feriado - Carnaval
UID:84750122-6b2f-40dc-9cd5-5f77d517abbe@supercalendario.com.br
END:VEVENT
BEGIN:VEVENT
DTSTAMP:20250219T215107Z
DTSTART;VALUE=DATE;VALUE=DATE:20230608
SUMMARY:Feriado - Corpus Christi
UID:dbfe2b98-2b3d-484c-a112-bdd062a961f2@supercalendario.com.br
END:VEVENT
BEGIN:VEVENT
DTSTAMP:20250219T215107Z
DTSTART;VALUE=DATE;VALUE=DATE:20230407
SUMMARY:Feriado - Paixão de Cristo
UID:25c3f5ca-f62a-493a-ae0f-d944200ed94d@supercalendario.com.br
END:VEVENT
END:VCALENDAR
