BEGIN:VCALENDAR
PRODID:-//www.supercalendario.com.br//PT_BR
VERSION:2.0
CALSCALE:GREGORIAN
BEGIN:VEVENT
DTSTAMP:20250219T215037Z
DTSTART;VALUE=DATE;VALUE=DATE:20240101
SUMMARY:Feriado - Ano Novo
UID:6e16c3cf-3df7-4f97-8b10-68ec0b66ada8@supercalendario.com.br
END:VEVENT
BEGIN:VEVENT
DTSTAMP:20250219T215037Z
DTSTART;VALUE=DATE;VALUE=DATE:20240421
SUMMARY:Feriado - Tiradentes
UID:4d687273-f1f6-4271-94b9-d2d188630902@supercalendario.com.br
END:VEVENT
BEGIN:VEVENT
DTSTAMP:20250219T215037Z
DTSTART;VALUE=DATE;VALUE=DATE:20240501
SUMMARY:Feriado - Dia do Trabado
UID:e3145d0a-09c8-4fcc-b9df-339b2b22dfa7@supercalendario.com.br
END:VEVENT
BEGIN:VEVENT
DTSTAMP:20250219T215037Z
DTSTART;VALUE=DATE;VALUE=DATE:20240907
SUMMARY:Feriado - Independência do Brasil
UID:fc2f29e8-6da0-4b35-90ac-99aced9eecc9@supercalendario.com.br
END:VEVENT
BEGIN:VEVENT
DTSTAMP:20250219T215037Z
DTSTART;VALUE=DATE;VALUE=DATE:20241012
SUMMARY:Feriado - Nossa Senha Aparecida
UID:67d1c933-8318-4e7d-8c27-944c00134164@supercalendario.com.br
END:VEVENT
BEGIN:VEVENT
DTSTAMP:20250219T215037Z
DTSTART;VALUE=DATE;VALUE=DATE:20241102
SUMMARY:Feriado - Finados
UID:ae6c8283-5d2a-4d0f-946c-1d20913c691d@supercalendario.com.br
END:VEVENT
BEGIN:VEVENT
DTSTAMP:20250219T215037Z
DTSTART;VALUE=DATE;VALUE=DATE:20241225
SUMMARY:Feriado - Natal
UID:359918db-f506-4e95-a8b5-8b4a67ac3d2f@supercalendario.com.br
END:VEVENT
BEGIN:VEVENT
DTSTAMP:20250219T215037Z
DTSTART;VALUE=DATE;VALUE=DATE:20240213
SUMMARY:Feriado - Carnaval
UID:55c4eeeb-c77e-4d84-8514-b99348f2ea55@supercalendario.com.br
END:VEVENT
BEGIN:VEVENT
DTSTAMP:20250219T215037Z
DTSTART;VALUE=DATE;VALUE=DATE:20240530
SUMMARY:Feriado - Corpus Christi
UID:c03211c6-94ae-41d7-be66-8b682ecb7130@supercalendario.com.br
END:VEVENT
BEGIN:VEVENT
DTSTAMP:20250219T215037Z
DTSTART;VALUE=DATE;VALUE=DATE:20240329
SUMMARY:Feriado - Paixão de Cristo
UID:d3d9a47e-b892-483a-8af0-15c27690e12e@supercalendario.com.br
END:VEVENT
END:VCALENDAR
