BEGIN:VCALENDAR
PRODID:-//www.supercalendario.com.br//PT_BR
VERSION:2.0
CALSCALE:GREGORIAN
BEGIN:VEVENT
DTSTAMP:20250219T215026Z
DTSTART;VALUE=DATE;VALUE=DATE:20260101
SUMMARY:Feriado - Ano Novo
UID:81b894eb-2ebc-44de-8925-c000fc8198ef@supercalendario.com.br
END:VEVENT
BEGIN:VEVENT
DTSTAMP:20250219T215026Z
DTSTART;VALUE=DATE;VALUE=DATE:20260421
SUMMARY:Feriado - Tiradentes
UID:2283e210-e375-486e-85f8-0988f6b355b2@supercalendario.com.br
END:VEVENT
BEGIN:VEVENT
DTSTAMP:20250219T215026Z
DTSTART;VALUE=DATE;VALUE=DATE:20260501
SUMMARY:Feriado - Dia do Trabado
UID:73f43402-a838-444a-a279-90cc7d3e513a@supercalendario.com.br
END:VEVENT
BEGIN:VEVENT
DTSTAMP:20250219T215026Z
DTSTART;VALUE=DATE;VALUE=DATE:20260907
SUMMARY:Feriado - Independência do Brasil
UID:eb3b8b29-cb22-41b1-99f4-2a215fe98c43@supercalendario.com.br
END:VEVENT
BEGIN:VEVENT
DTSTAMP:20250219T215026Z
DTSTART;VALUE=DATE;VALUE=DATE:20261012
SUMMARY:Feriado - Nossa Senha Aparecida
UID:41fc5870-ed70-43b5-ae5c-90f69a970ae3@supercalendario.com.br
END:VEVENT
BEGIN:VEVENT
DTSTAMP:20250219T215026Z
DTSTART;VALUE=DATE;VALUE=DATE:20261102
SUMMARY:Feriado - Finados
UID:84e89fcd-1bbe-4458-90e5-b9b230737d24@supercalendario.com.br
END:VEVENT
BEGIN:VEVENT
DTSTAMP:20250219T215026Z
DTSTART;VALUE=DATE;VALUE=DATE:20261225
SUMMARY:Feriado - Natal
UID:22ace05f-096c-40f1-8779-3fb1c47366d1@supercalendario.com.br
END:VEVENT
BEGIN:VEVENT
DTSTAMP:20250219T215026Z
DTSTART;VALUE=DATE;VALUE=DATE:20260217
SUMMARY:Feriado - Carnaval
UID:5e1959d3-1692-41a4-b3c4-f3ebd62d62b4@supercalendario.com.br
END:VEVENT
BEGIN:VEVENT
DTSTAMP:20250219T215026Z
DTSTART;VALUE=DATE;VALUE=DATE:20260604
SUMMARY:Feriado - Corpus Christi
UID:be57af71-0b2f-426b-88ad-56a4b7ad7a6a@supercalendario.com.br
END:VEVENT
BEGIN:VEVENT
DTSTAMP:20250219T215026Z
DTSTART;VALUE=DATE;VALUE=DATE:20260403
SUMMARY:Feriado - Paixão de Cristo
UID:22022a1d-15db-4e17-a4ec-f76187b70679@supercalendario.com.br
END:VEVENT
END:VCALENDAR
