BEGIN:VCALENDAR
PRODID:-//www.supercalendario.com.br//PT_BR
VERSION:2.0
CALSCALE:GREGORIAN
BEGIN:VEVENT
DTSTAMP:20250219T215054Z
DTSTART;VALUE=DATE;VALUE=DATE:20270101
SUMMARY:Feriado - Ano Novo
UID:8ea90425-90ea-439c-b7e9-f087197df9d8@supercalendario.com.br
END:VEVENT
BEGIN:VEVENT
DTSTAMP:20250219T215054Z
DTSTART;VALUE=DATE;VALUE=DATE:20270421
SUMMARY:Feriado - Tiradentes
UID:59e1286f-cdc8-4d29-85b0-13463b6a5b64@supercalendario.com.br
END:VEVENT
BEGIN:VEVENT
DTSTAMP:20250219T215054Z
DTSTART;VALUE=DATE;VALUE=DATE:20270501
SUMMARY:Feriado - Dia do Trabado
UID:35c9ee86-01c3-4a67-9cda-7477a5bcfa96@supercalendario.com.br
END:VEVENT
BEGIN:VEVENT
DTSTAMP:20250219T215054Z
DTSTART;VALUE=DATE;VALUE=DATE:20270907
SUMMARY:Feriado - Independência do Brasil
UID:87ded040-d45e-420c-a553-d22c4bb02031@supercalendario.com.br
END:VEVENT
BEGIN:VEVENT
DTSTAMP:20250219T215054Z
DTSTART;VALUE=DATE;VALUE=DATE:20271012
SUMMARY:Feriado - Nossa Senha Aparecida
UID:bdee6981-d712-4ae6-8422-29fb9a1bd733@supercalendario.com.br
END:VEVENT
BEGIN:VEVENT
DTSTAMP:20250219T215054Z
DTSTART;VALUE=DATE;VALUE=DATE:20271102
SUMMARY:Feriado - Finados
UID:80e7eece-ea9d-44d5-8bcb-762057fb67b5@supercalendario.com.br
END:VEVENT
BEGIN:VEVENT
DTSTAMP:20250219T215054Z
DTSTART;VALUE=DATE;VALUE=DATE:20271225
SUMMARY:Feriado - Natal
UID:40479519-2766-4542-9c7c-14b4809460f5@supercalendario.com.br
END:VEVENT
BEGIN:VEVENT
DTSTAMP:20250219T215054Z
DTSTART;VALUE=DATE;VALUE=DATE:20270209
SUMMARY:Feriado - Carnaval
UID:7456a610-31e9-46f7-816f-a8510056c7b7@supercalendario.com.br
END:VEVENT
BEGIN:VEVENT
DTSTAMP:20250219T215054Z
DTSTART;VALUE=DATE;VALUE=DATE:20270527
SUMMARY:Feriado - Corpus Christi
UID:6c9614a6-258b-4719-902a-392603456709@supercalendario.com.br
END:VEVENT
BEGIN:VEVENT
DTSTAMP:20250219T215054Z
DTSTART;VALUE=DATE;VALUE=DATE:20270326
SUMMARY:Feriado - Paixão de Cristo
UID:d4c59582-5c13-4fe9-9fd7-4380bb4259ec@supercalendario.com.br
END:VEVENT
END:VCALENDAR
