BEGIN:VCALENDAR
PRODID:-//www.supercalendario.com.br//PT_BR
VERSION:2.0
CALSCALE:GREGORIAN
BEGIN:VEVENT
DTSTAMP:20250219T215132Z
DTSTART;VALUE=DATE;VALUE=DATE:20280101
SUMMARY:Feriado - Ano Novo
UID:8dcb50e8-9547-4a01-99d1-2ff4de838ca9@supercalendario.com.br
END:VEVENT
BEGIN:VEVENT
DTSTAMP:20250219T215132Z
DTSTART;VALUE=DATE;VALUE=DATE:20280421
SUMMARY:Feriado - Tiradentes
UID:341e51da-dd5c-4495-8e4a-1bbe8f9057e9@supercalendario.com.br
END:VEVENT
BEGIN:VEVENT
DTSTAMP:20250219T215132Z
DTSTART;VALUE=DATE;VALUE=DATE:20280501
SUMMARY:Feriado - Dia do Trabado
UID:6fd5c022-fa09-4308-a781-ae6ae2883dbb@supercalendario.com.br
END:VEVENT
BEGIN:VEVENT
DTSTAMP:20250219T215132Z
DTSTART;VALUE=DATE;VALUE=DATE:20280907
SUMMARY:Feriado - Independência do Brasil
UID:3e504af4-27be-49b8-b60b-d37b63427492@supercalendario.com.br
END:VEVENT
BEGIN:VEVENT
DTSTAMP:20250219T215132Z
DTSTART;VALUE=DATE;VALUE=DATE:20281012
SUMMARY:Feriado - Nossa Senha Aparecida
UID:5e2fbe14-c1bf-4d77-9f95-7c2659c80dd1@supercalendario.com.br
END:VEVENT
BEGIN:VEVENT
DTSTAMP:20250219T215132Z
DTSTART;VALUE=DATE;VALUE=DATE:20281102
SUMMARY:Feriado - Finados
UID:f5fdd3e8-8b17-4a99-a0d6-c27630656477@supercalendario.com.br
END:VEVENT
BEGIN:VEVENT
DTSTAMP:20250219T215132Z
DTSTART;VALUE=DATE;VALUE=DATE:20281225
SUMMARY:Feriado - Natal
UID:7c80aad9-e737-4e5b-8681-57d5580cd546@supercalendario.com.br
END:VEVENT
BEGIN:VEVENT
DTSTAMP:20250219T215132Z
DTSTART;VALUE=DATE;VALUE=DATE:20280229
SUMMARY:Feriado - Carnaval
UID:33d07dc8-5004-4326-ba04-54db9cee2f2a@supercalendario.com.br
END:VEVENT
BEGIN:VEVENT
DTSTAMP:20250219T215132Z
DTSTART;VALUE=DATE;VALUE=DATE:20280615
SUMMARY:Feriado - Corpus Christi
UID:29cce95d-1c61-4822-8bef-6b670ba1c3fe@supercalendario.com.br
END:VEVENT
BEGIN:VEVENT
DTSTAMP:20250219T215132Z
DTSTART;VALUE=DATE;VALUE=DATE:20280414
SUMMARY:Feriado - Paixão de Cristo
UID:cda3cfda-0c66-4a93-a98e-bf4a0a1d6b34@supercalendario.com.br
END:VEVENT
END:VCALENDAR
